BEGIN:VCALENDAR
VERSION:2.0
PRODID:-//Caritasverband für den Landkreis Kitzingen e.V. - ECPv6.15.17//NONSGML v1.0//EN
CALSCALE:GREGORIAN
METHOD:PUBLISH
X-ORIGINAL-URL:https://www.caritas-kitzingen.de
X-WR-CALDESC:Veranstaltungen für Caritasverband für den Landkreis Kitzingen e.V.
REFRESH-INTERVAL;VALUE=DURATION:PT1H
X-Robots-Tag:noindex
X-PUBLISHED-TTL:PT1H
BEGIN:VTIMEZONE
TZID:Europe/Berlin
BEGIN:DAYLIGHT
TZOFFSETFROM:+0100
TZOFFSETTO:+0200
TZNAME:CEST
DTSTART:20220327T010000
END:DAYLIGHT
BEGIN:STANDARD
TZOFFSETFROM:+0200
TZOFFSETTO:+0100
TZNAME:CET
DTSTART:20221030T010000
END:STANDARD
BEGIN:DAYLIGHT
TZOFFSETFROM:+0100
TZOFFSETTO:+0200
TZNAME:CEST
DTSTART:20230326T010000
END:DAYLIGHT
BEGIN:STANDARD
TZOFFSETFROM:+0200
TZOFFSETTO:+0100
TZNAME:CET
DTSTART:20231029T010000
END:STANDARD
BEGIN:DAYLIGHT
TZOFFSETFROM:+0100
TZOFFSETTO:+0200
TZNAME:CEST
DTSTART:20240331T010000
END:DAYLIGHT
BEGIN:STANDARD
TZOFFSETFROM:+0200
TZOFFSETTO:+0100
TZNAME:CET
DTSTART:20241027T010000
END:STANDARD
BEGIN:DAYLIGHT
TZOFFSETFROM:+0100
TZOFFSETTO:+0200
TZNAME:CEST
DTSTART:20250330T010000
END:DAYLIGHT
BEGIN:STANDARD
TZOFFSETFROM:+0200
TZOFFSETTO:+0100
TZNAME:CET
DTSTART:20251026T010000
END:STANDARD
END:VTIMEZONE
BEGIN:VEVENT
DTSTART;TZID=Europe/Berlin:20230131T183000
DTEND;TZID=Europe/Berlin:20240131T203000
DTSTAMP:20260422T012509
CREATED:20240524T051139Z
LAST-MODIFIED:20240524T051139Z
UID:10000093-1675189800-1706733000@www.caritas-kitzingen.de
SUMMARY:Angehörigengruppe in der Suchtberatungsstelle Kitzingen
DESCRIPTION:Genaue Informationen zur Angehörigengruppe finden Sie unter: https://www.suchtberatung-kitzingen.de/unser-angebot/angehoerigengruppe \nWenn Sie teilnehmen möchten oder Fragen haben\, rufen Sie uns an: Psychosoziale Beratungsstelle für Suchtprobleme Kitzingen \nTel.: 09321 2204-0 Mo. bis Do. von 9 Uhr bis 12 Uhr und 14 Uhr bis 16 Uhr\, Fr. von 9 Uhr bis 12 Uhr
URL:https://www.caritas-kitzingen.de/event/angehorigengruppe-in-der-suchtberatungsstelle-kitzingen/
LOCATION:Caritasverband für den Landkreis Kitzingen e.V. \, Schrannenstr. 10\, 97318 Kitzingen\, Schrannenstr. 10\, 97318 Kitzingen
ATTACH;FMTTYPE=image/jpeg:https://www.caritas-kitzingen.de/wp-content/uploads/2024/05/e0641162d669ae24d0e03c6a2f9de1e6_w720_h440_cp-1.jpg
END:VEVENT
END:VCALENDAR