BEGIN:VCALENDAR
VERSION:2.0
PRODID:-//Caritasverband für den Landkreis Kitzingen e.V. - ECPv6.15.17//NONSGML v1.0//EN
CALSCALE:GREGORIAN
METHOD:PUBLISH
X-ORIGINAL-URL:https://www.caritas-kitzingen.de
X-WR-CALDESC:Veranstaltungen für Caritasverband für den Landkreis Kitzingen e.V.
REFRESH-INTERVAL;VALUE=DURATION:PT1H
X-Robots-Tag:noindex
X-PUBLISHED-TTL:PT1H
BEGIN:VTIMEZONE
TZID:Europe/Berlin
BEGIN:DAYLIGHT
TZOFFSETFROM:+0100
TZOFFSETTO:+0200
TZNAME:CEST
DTSTART:20230326T010000
END:DAYLIGHT
BEGIN:STANDARD
TZOFFSETFROM:+0200
TZOFFSETTO:+0100
TZNAME:CET
DTSTART:20231029T010000
END:STANDARD
BEGIN:DAYLIGHT
TZOFFSETFROM:+0100
TZOFFSETTO:+0200
TZNAME:CEST
DTSTART:20240331T010000
END:DAYLIGHT
BEGIN:STANDARD
TZOFFSETFROM:+0200
TZOFFSETTO:+0100
TZNAME:CET
DTSTART:20241027T010000
END:STANDARD
BEGIN:DAYLIGHT
TZOFFSETFROM:+0100
TZOFFSETTO:+0200
TZNAME:CEST
DTSTART:20250330T010000
END:DAYLIGHT
BEGIN:STANDARD
TZOFFSETFROM:+0200
TZOFFSETTO:+0100
TZNAME:CET
DTSTART:20251026T010000
END:STANDARD
END:VTIMEZONE
BEGIN:VEVENT
DTSTART;TZID=Europe/Berlin:20240524T080000
DTEND;TZID=Europe/Berlin:20240524T170000
DTSTAMP:20260421T133746
CREATED:20240524T043825Z
LAST-MODIFIED:20240524T043921Z
UID:10000086-1716537600-1716570000@www.caritas-kitzingen.de
SUMMARY:Arbeitslosenfrühstück am Mittwoch\, 6. Dezember 2023 um 9:00 Uhr
DESCRIPTION:
URL:https://www.caritas-kitzingen.de/event/arbeitslosenfruhstuck-am-mittwoch-6-dezember-2023-um-900-uhr/
LOCATION:Paul Eber Haus Kitzingen\, Schulhof 1\, 97318 Kitzingen\, Paul Eber Haus Kitzingen\, Schulhof 1\, 97318 Kitzingen
ATTACH;FMTTYPE=image/jpeg:https://www.caritas-kitzingen.de/wp-content/uploads/2024/05/e0641162d669ae24d0e03c6a2f9de1e6_w720_h440_cp-1.jpg
END:VEVENT
END:VCALENDAR