BEGIN:VCALENDAR
VERSION:2.0
PRODID:-//Caritasverband für den Landkreis Kitzingen e.V. - ECPv6.15.17//NONSGML v1.0//EN
CALSCALE:GREGORIAN
METHOD:PUBLISH
X-WR-CALNAME:Caritasverband für den Landkreis Kitzingen e.V.
X-ORIGINAL-URL:https://www.caritas-kitzingen.de
X-WR-CALDESC:Veranstaltungen für Caritasverband für den Landkreis Kitzingen e.V.
REFRESH-INTERVAL;VALUE=DURATION:PT1H
X-Robots-Tag:noindex
X-PUBLISHED-TTL:PT1H
BEGIN:VTIMEZONE
TZID:Europe/Berlin
BEGIN:DAYLIGHT
TZOFFSETFROM:+0100
TZOFFSETTO:+0200
TZNAME:CEST
DTSTART:20230326T010000
END:DAYLIGHT
BEGIN:STANDARD
TZOFFSETFROM:+0200
TZOFFSETTO:+0100
TZNAME:CET
DTSTART:20231029T010000
END:STANDARD
BEGIN:DAYLIGHT
TZOFFSETFROM:+0100
TZOFFSETTO:+0200
TZNAME:CEST
DTSTART:20240331T010000
END:DAYLIGHT
BEGIN:STANDARD
TZOFFSETFROM:+0200
TZOFFSETTO:+0100
TZNAME:CET
DTSTART:20241027T010000
END:STANDARD
BEGIN:DAYLIGHT
TZOFFSETFROM:+0100
TZOFFSETTO:+0200
TZNAME:CEST
DTSTART:20250330T010000
END:DAYLIGHT
BEGIN:STANDARD
TZOFFSETFROM:+0200
TZOFFSETTO:+0100
TZNAME:CET
DTSTART:20251026T010000
END:STANDARD
END:VTIMEZONE
BEGIN:VEVENT
DTSTART;TZID=Europe/Berlin:20240713T100000
DTEND;TZID=Europe/Berlin:20240713T120000
DTSTAMP:20260421T104455
CREATED:20240627T124636Z
LAST-MODIFIED:20240627T125739Z
UID:10000117-1720864800-1720872000@www.caritas-kitzingen.de
SUMMARY:Unsere Fahrradwerkstatt öffnet wieder !
DESCRIPTION:
URL:https://www.caritas-kitzingen.de/event/fahrradwerkstatt/
LOCATION:ConneKT\, an der Straße 2272\, Kitzingen\, bayern\, 97318\, Deutschland
END:VEVENT
END:VCALENDAR