BEGIN:VCALENDAR
VERSION:2.0
PRODID:-//Caritasverband für den Landkreis Kitzingen e.V. - ECPv6.15.17//NONSGML v1.0//EN
CALSCALE:GREGORIAN
METHOD:PUBLISH
X-WR-CALNAME:Caritasverband für den Landkreis Kitzingen e.V.
X-ORIGINAL-URL:https://www.caritas-kitzingen.de
X-WR-CALDESC:Veranstaltungen für Caritasverband für den Landkreis Kitzingen e.V.
REFRESH-INTERVAL;VALUE=DURATION:PT1H
X-Robots-Tag:noindex
X-PUBLISHED-TTL:PT1H
BEGIN:VTIMEZONE
TZID:Europe/Berlin
BEGIN:DAYLIGHT
TZOFFSETFROM:+0100
TZOFFSETTO:+0200
TZNAME:CEST
DTSTART:20230326T010000
END:DAYLIGHT
BEGIN:STANDARD
TZOFFSETFROM:+0200
TZOFFSETTO:+0100
TZNAME:CET
DTSTART:20231029T010000
END:STANDARD
BEGIN:DAYLIGHT
TZOFFSETFROM:+0100
TZOFFSETTO:+0200
TZNAME:CEST
DTSTART:20240331T010000
END:DAYLIGHT
BEGIN:STANDARD
TZOFFSETFROM:+0200
TZOFFSETTO:+0100
TZNAME:CET
DTSTART:20241027T010000
END:STANDARD
BEGIN:DAYLIGHT
TZOFFSETFROM:+0100
TZOFFSETTO:+0200
TZNAME:CEST
DTSTART:20250330T010000
END:DAYLIGHT
BEGIN:STANDARD
TZOFFSETFROM:+0200
TZOFFSETTO:+0100
TZNAME:CET
DTSTART:20251026T010000
END:STANDARD
END:VTIMEZONE
BEGIN:VEVENT
DTSTART;TZID=Europe/Berlin:20240720T110000
DTEND;TZID=Europe/Berlin:20240720T170000
DTSTAMP:20260421T104226
CREATED:20240626T130023Z
LAST-MODIFIED:20240626T133530Z
UID:10000115-1721473200-1721494800@www.caritas-kitzingen.de
SUMMARY:Sommerfest mit Tag der offenen Tür der Tagespflege in Schwarzach
DESCRIPTION:Herzliche Einladung ! \n  \nDie Tagespflege in Schwarzach lädt zum Sommerfest mit Tag der offenen Tür ein ! \n  \nWann: Samstag\, 20.07.2024 \nBeginn: 11.00 Uhr \n  \nEs erwartet sie: \n  \n\nAndacht mit Diakon Lorenz Kleinschnitz\nMusikalische Begleitung mit der Akkordeongruppe unter Leitung von Matthias Lux\nKaffee und Kuchen\nBratwurst vom Grill\nUnd vieles mehr!\n\n  \n„Gib jedem Tag die Chance\, der schönste Deines Lebens zu werden“ \n  \nWir freuen uns auf Ihr Kommen! \n  \nTagespflege St. Hedwig \nSchweinfurter Str. 73 \n97359 Schwarzach am Main \nTel. 09324-9819629
URL:https://www.caritas-kitzingen.de/event/nachbarschaftsfest2024-copy/
LOCATION:ConneKT\, an der Straße 2272\, Kitzingen\, bayern\, 97318\, Deutschland
ATTACH;FMTTYPE=image/jpeg:https://www.caritas-kitzingen.de/wp-content/uploads/2023/07/Sommerfest_Kindergarten_Schwarzach.jpg
END:VEVENT
END:VCALENDAR