BEGIN:VCALENDAR
VERSION:2.0
PRODID:-//Caritasverband für den Landkreis Kitzingen e.V. - ECPv6.15.17//NONSGML v1.0//EN
CALSCALE:GREGORIAN
METHOD:PUBLISH
X-WR-CALNAME:Caritasverband für den Landkreis Kitzingen e.V.
X-ORIGINAL-URL:https://www.caritas-kitzingen.de
X-WR-CALDESC:Veranstaltungen für Caritasverband für den Landkreis Kitzingen e.V.
REFRESH-INTERVAL;VALUE=DURATION:PT1H
X-Robots-Tag:noindex
X-PUBLISHED-TTL:PT1H
BEGIN:VTIMEZONE
TZID:Europe/Berlin
BEGIN:DAYLIGHT
TZOFFSETFROM:+0100
TZOFFSETTO:+0200
TZNAME:CEST
DTSTART:20230326T010000
END:DAYLIGHT
BEGIN:STANDARD
TZOFFSETFROM:+0200
TZOFFSETTO:+0100
TZNAME:CET
DTSTART:20231029T010000
END:STANDARD
BEGIN:DAYLIGHT
TZOFFSETFROM:+0100
TZOFFSETTO:+0200
TZNAME:CEST
DTSTART:20240331T010000
END:DAYLIGHT
BEGIN:STANDARD
TZOFFSETFROM:+0200
TZOFFSETTO:+0100
TZNAME:CET
DTSTART:20241027T010000
END:STANDARD
BEGIN:DAYLIGHT
TZOFFSETFROM:+0100
TZOFFSETTO:+0200
TZNAME:CEST
DTSTART:20250330T010000
END:DAYLIGHT
BEGIN:STANDARD
TZOFFSETFROM:+0200
TZOFFSETTO:+0100
TZNAME:CET
DTSTART:20251026T010000
END:STANDARD
END:VTIMEZONE
BEGIN:VEVENT
DTSTART;TZID=Europe/Berlin:20240731T140000
DTEND;TZID=Europe/Berlin:20240916T150000
DTSTAMP:20260419T143702
CREATED:20240719T110736Z
LAST-MODIFIED:20240719T112655Z
UID:10000118-1722434400-1726498800@www.caritas-kitzingen.de
SUMMARY:Caritas-Kleidermarkt macht Sommerpause ab 31.07.2024
DESCRIPTION:
URL:https://www.caritas-kitzingen.de/event/caritas-kleidermarkt-macht-sommerpause/
LOCATION:Obere neue Gasse 14\, 97318 Kitzingen\, Obere neue Gasse 14\, 97318 Kitzingen
END:VEVENT
END:VCALENDAR